BEGIN:VCALENDAR
VERSION:2.0
PRODID:-//wp-events-plugin.com//7.2.3.1//EN
TZID:Europe/Stockholm
X-WR-TIMEZONE:Europe/Stockholm
BEGIN:VEVENT
UID:75@holmsmagasin.se
DTSTART;TZID=Europe/Stockholm:20260502T090000
DTEND;TZID=Europe/Stockholm:20260502T153000
DTSTAMP:20260324T104420Z
URL:https://holmsmagasin.se/events/ympkurs/
SUMMARY:Ympkurs
DESCRIPTION:Lär dig ympa!\n\nDu får lära dig att skapa nya små träd ge
 nom att ympa på en liten grundstam i kruka. Du får även lära dig hur d
 u förädlar ett vilt och vuxet träd\, eller ett träd du vill byta sort 
 på.\n\nVid kursen kommer det att finnas ympris tillgängligt av många so
 rter\, både äpple och päron: Klassiska gamla sorter som många känner 
 till och älskar\; Nyare\, moderna sorter med bra egenskaper\; Bortglömda
 \, gamla sorter som är värda att bevara\; Och några spännande mysterie
 r.\n\nDu kommer få med dig två krukade träd hem som du själv ympat\, e
 tt äppelträd och ett päronträd\, som ingår i kursavgiften.\n\nKursen 
 börjar med en teoridel för att sen fokusera på hantverket. Det är inte
  svårt att lära sig. Med bra utrustning är du snart i full gång! Ympni
 ng är givande i flera avseenden: Det är ett hantverk som man förfinar 
 över tid. Det är också en oändlig värld med sorter\, historik och kul
 tur att sätta sig in i. Det är dessutom ett område där du kan bidra me
 d att bevara gamla sorter för framtiden. Och för dig som är systematisk
 t lagd och har ett visst samlarintresse är ympning en väg till förnöje
 lse.\n\nKursledare: Pär-Anders Albinsson. Började ympa 2011 och har ympa
 t varje år sen dess med fokus på redan vuxna träd. Har ett päronträd 
 med 50 inympade sorter på tomten i Vargsätter och korna i hagarna i när
 heten njuter numera av ovanligt exklusiva äpplen.\n\nVar: Holms magasin\,
  i Skeda\, söder om Linköping.\n\nAnmäl dig här\n\nKontakt och frågor
 : info@holmsmagasin.se
ATTACH;FMTTYPE=image/jpeg:https://holmsmagasin.se/wp-content/uploads/2025/
 03/ny.png
LOCATION:https://holmsmagasin.se/hitta-till-holms-magasin/
END:VEVENT
BEGIN:VTIMEZONE
TZID:Europe/Stockholm
X-LIC-LOCATION:Europe/Stockholm
BEGIN:DAYLIGHT
DTSTART:20260329T030000
TZOFFSETFROM:+0100
TZOFFSETTO:+0200
TZNAME:CEST
END:DAYLIGHT
END:VTIMEZONE
END:VCALENDAR