BEGIN:VCALENDAR
VERSION:2.0
PRODID:-//wp-events-plugin.com//7.2.3.1//EN
TZID:Europe/Stockholm
X-WR-TIMEZONE:Europe/Stockholm
BEGIN:VEVENT
UID:18@holmsmagasin.se
DTSTART;TZID=Europe/Stockholm:20250906T100000
DTEND;TZID=Europe/Stockholm:20250907T160000
DTSTAMP:20250814T123253Z
URL:https://holmsmagasin.se/events/ostgotadagarna/
SUMMARY:Östgötadagar på Holms Magasin
DESCRIPTION:\nVälkommen till en helg fylld av konst\,\nhantverk\, och smak
 upplevelser i lantlig miljö.\n\n\n\nKonstutställning med Bo Lundwall\nUn
 der båda dagarna visar vi verk av Bo Lundwall\, en av Sveriges främsta d
 jur- och naturkonstnärer. Bo finns själv på plats hela helgen.\nKl. 11.
 00–11.30 både lördag och söndag berättar han om utställningen\, sit
 t arbete och sin livslånga relation till naturen.\n\nHantverkstorg med m
 ånga hantverkare\n\nSamtidigt har vår permanenta bod öppet. I och framf
 ör magasinet möter du ett levande hantverkstorg med utställare som visa
 r och säljer sina alster.\n\n* Hantverksboden håller öppet med hantverk
  och konst av bl a:\nAlf Allard\, Danute Šoblinskiene\, Gudrun Andersson\
 , Herrbeta Smide\, Johannes Gustavsson\, Shape of a Thought\, Sikta och Ä
 ngsrå.\n\n\n* Bekeletch Design – smycken i silver\n\n\n* Ebba Månsson 
 - visar sin nya Svampbok\n\n\n* Garnebo - tovade vantar\, ullgarn\, underl
 ägg i sadelgjord och ovanliga pelargoner mm.\n\n\n* Gudrun Nilsson – ma
 ttor och textil\n\n\n* Hultsätter Grönt & Jordnära – vaxprodukter\, h
 onung\, bikupor\n\n\n* Kerstin Sjöberg – virkat och sytt\, återbruk oc
 h nytt\n\n\n* Lotta Dufke – mattor och vävnad i Taqueté\n\n\n* Mikael 
 Gustafsson – naturfoto\n\n\n* Per Davidsson – trähantverk\n\n\n* The 
 Golden Tillet – smycken i silver\n\n\n* Windys möbelrenovering – visa
 r rottingflätning och möbelrenovering. \n\n\nm.fl.\n\n\nMatservering\n\n
 Den lokala matkreatören Åbysätter Catering finns på plats med sin matv
 agn och serverar smakrik mat under hela dagen. \n\nVälkommen till Holms M
 agasin – där skaparlust\, tradition och natur möts under Östgötadaga
 rna.\n\n\n\n
ATTACH;FMTTYPE=image/jpeg:https://holmsmagasin.se/wp-content/uploads/2025/
 07/holms-med-logga-01.png
LOCATION:https://holmsmagasin.se/hitta-till-holms-magasin/
END:VEVENT
BEGIN:VTIMEZONE
TZID:Europe/Stockholm
X-LIC-LOCATION:Europe/Stockholm
BEGIN:DAYLIGHT
DTSTART:20250330T030000
TZOFFSETFROM:+0100
TZOFFSETTO:+0200
TZNAME:CEST
END:DAYLIGHT
END:VTIMEZONE
END:VCALENDAR