BEGIN:VCALENDAR
VERSION:2.0
PRODID:-//wp-events-plugin.com//7.2.3.1//EN
TZID:Europe/Stockholm
X-WR-TIMEZONE:Europe/Stockholm
BEGIN:VEVENT
UID:20@holmsmagasin.se
DTSTART;TZID=Europe/Stockholm:20250628T100000
DTEND;TZID=Europe/Stockholm:20250628T150000
DTSTAMP:20250619T212635Z
URL:https://holmsmagasin.se/events/mattor-band-utstallning-och-drop-in-wor
 kshop/
SUMMARY:Mattor & band – utställning och  drop-in workshop
DESCRIPTION:Textilhantverkaren Lotta Dufke är på plats och visar sina tä
 tvävda mattor i taqueté\, en dubbelsidig teknik med starka färgfält oc
 h tydliga mönster. Under dagen finns också möjlighet att prova på band
 vävning med bandgrind\, en fascinerande äldre teknik. \n\nSommarloppisen
  och Konst & Hantverksboden håller öppet samtidigt.\n
ATTACH;FMTTYPE=image/jpeg:https://holmsmagasin.se/wp-content/uploads/2025/
 06/PXL_20250607_074126358-scaled.jpg
LOCATION:https://holmsmagasin.se/hitta-till-holms-magasin/
END:VEVENT
BEGIN:VTIMEZONE
TZID:Europe/Stockholm
X-LIC-LOCATION:Europe/Stockholm
BEGIN:DAYLIGHT
DTSTART:20250330T030000
TZOFFSETFROM:+0100
TZOFFSETTO:+0200
TZNAME:CEST
END:DAYLIGHT
END:VTIMEZONE
END:VCALENDAR