BEGIN:VCALENDAR
VERSION:2.0
PRODID:-//wp-events-plugin.com//7.2.3.1//EN
TZID:Europe/Stockholm
X-WR-TIMEZONE:Europe/Stockholm
BEGIN:VEVENT
UID:11@holmsmagasin.se
DTSTART;TZID=Europe/Stockholm:20250816T100000
DTEND;TZID=Europe/Stockholm:20250816T150000
DTSTAMP:20250611T200324Z
URL:https://holmsmagasin.se/events/konst-och-hantverksboden-och-sommarlopp
 isen-haller-oppet-8/
SUMMARY:Konst- och Hantverksboden och Sommarloppisen håller öppet
DESCRIPTION:Hantverk och sommarloppis på Holms Magasin.\nÖppet alla lörd
 agar under sommaren\, kl 10-15.\n\nI Konst- och Hantverksboden på Holms M
 agasin hittar du familjens egna kreativa hantverk:\n● Sikta - Hantverk i
  trä\, läder och silver.\n● Shape of a Thought - Grafiktryck\, keramik
  och silverhantverk.\n● Ängsrå - Hantverk i silver och återbruk.\n\nD
 essutom har vi hantverk från andra lokala kreatörer:\n● Asplunda snick
 eri - Trähantverk av Per Davidsson.\n● Bekeletch Design - Silversmycken
 .\n● Danute Šoblinskiene - Virkade väskor\, korgar\, bordstabletter m.
 m.\n● Gudrun Andersson - Virkade och stickade vantar\, sockar och smådj
 ur.\n● Hultsätter Grönt & Jordnära - Bivaxprodukter och biokol.\n● 
 Johannes Gustavsson - Handsnidade knivar.\n● Mikael Gustafsson - Naturfo
 tografi.\n● The Golden Tillet - Silversmycken. \nUnder sommaren har vi
  även fantastiska vävda mattor från:\n● Lotta Dufke\n\nDessutom har v
 i frö från Fröbanken och vår egen björkved till försäljning!\n\nÖv
 ervåningen är fylld med sommarloppis!\n\nVälkomna!
ATTACH;FMTTYPE=image/jpeg:https://holmsmagasin.se/wp-content/uploads/2025/
 05/PXL_20240802_122858283-scaled.jpg
LOCATION:https://holmsmagasin.se/hitta-till-holms-magasin/
END:VEVENT
BEGIN:VTIMEZONE
TZID:Europe/Stockholm
X-LIC-LOCATION:Europe/Stockholm
BEGIN:DAYLIGHT
DTSTART:20250330T030000
TZOFFSETFROM:+0100
TZOFFSETTO:+0200
TZNAME:CEST
END:DAYLIGHT
END:VTIMEZONE
END:VCALENDAR